BEGIN:VCALENDAR
VERSION:2.0
PRODID:-//My Green Montgomery - ECPv6.15.20//NONSGML v1.0//EN
CALSCALE:GREGORIAN
METHOD:PUBLISH
X-WR-CALNAME:My Green Montgomery
X-ORIGINAL-URL:https://mygreenmontgomery.org
X-WR-CALDESC:Events for My Green Montgomery
REFRESH-INTERVAL;VALUE=DURATION:PT1H
X-Robots-Tag:noindex
X-PUBLISHED-TTL:PT1H
BEGIN:VTIMEZONE
TZID:America/New_York
BEGIN:DAYLIGHT
TZOFFSETFROM:-0500
TZOFFSETTO:-0400
TZNAME:EDT
DTSTART:20200308T070000
END:DAYLIGHT
BEGIN:STANDARD
TZOFFSETFROM:-0400
TZOFFSETTO:-0500
TZNAME:EST
DTSTART:20201101T060000
END:STANDARD
BEGIN:DAYLIGHT
TZOFFSETFROM:-0500
TZOFFSETTO:-0400
TZNAME:EDT
DTSTART:20210314T070000
END:DAYLIGHT
BEGIN:STANDARD
TZOFFSETFROM:-0400
TZOFFSETTO:-0500
TZNAME:EST
DTSTART:20211107T060000
END:STANDARD
BEGIN:DAYLIGHT
TZOFFSETFROM:-0500
TZOFFSETTO:-0400
TZNAME:EDT
DTSTART:20220313T070000
END:DAYLIGHT
BEGIN:STANDARD
TZOFFSETFROM:-0400
TZOFFSETTO:-0500
TZNAME:EST
DTSTART:20221106T060000
END:STANDARD
END:VTIMEZONE
BEGIN:VEVENT
DTSTART;TZID=America/New_York:20211014T190000
DTEND;TZID=America/New_York:20211014T200000
DTSTAMP:20260421T095049
CREATED:20211005T173343Z
LAST-MODIFIED:20211005T173343Z
UID:10002563-1634238000-1634241600@mygreenmontgomery.org
SUMMARY:SAPPlings Forum
DESCRIPTION:SAPPlings (Student Advocates Protecting the Planet) is a is a project created by high school students for high school students in Montgomery County\, Maryland. Its purpose is to share information about environmental issues and help students take part in meaningful activities to live more sustainably and make a difference in their schools\, their communities\, and the world at large. Students in grades 9-12 at public schools\, private schools\, or homeschooled in the County are invited to attend their first public forum where we’ll be covering news\, events\, & opportunities for students. Plus\, you’ll be able to share what you’re doing and discuss what topics you would like to see SAPPlings focus on in the future. Register Now.
URL:https://mygreenmontgomery.org/event/sapplings-forum/
LOCATION:Online\, Online\, Online\, Online\, United States
CATEGORIES:Community Calendar
ATTACH;FMTTYPE=image/png:https://mygreenmontgomery.org/wp-content/uploads/2021/10/SAPPlings-Forum-Graphic.png
END:VEVENT
END:VCALENDAR