BEGIN:VCALENDAR
VERSION:2.0
PRODID:-//My Green Montgomery - ECPv6.15.20//NONSGML v1.0//EN
CALSCALE:GREGORIAN
METHOD:PUBLISH
X-WR-CALNAME:My Green Montgomery
X-ORIGINAL-URL:https://mygreenmontgomery.org
X-WR-CALDESC:Events for My Green Montgomery
REFRESH-INTERVAL;VALUE=DURATION:PT1H
X-Robots-Tag:noindex
X-PUBLISHED-TTL:PT1H
BEGIN:VTIMEZONE
TZID:America/New_York
BEGIN:DAYLIGHT
TZOFFSETFROM:-0500
TZOFFSETTO:-0400
TZNAME:EDT
DTSTART:20240310T070000
END:DAYLIGHT
BEGIN:STANDARD
TZOFFSETFROM:-0400
TZOFFSETTO:-0500
TZNAME:EST
DTSTART:20241103T060000
END:STANDARD
BEGIN:DAYLIGHT
TZOFFSETFROM:-0500
TZOFFSETTO:-0400
TZNAME:EDT
DTSTART:20250309T070000
END:DAYLIGHT
BEGIN:STANDARD
TZOFFSETFROM:-0400
TZOFFSETTO:-0500
TZNAME:EST
DTSTART:20251102T060000
END:STANDARD
BEGIN:DAYLIGHT
TZOFFSETFROM:-0500
TZOFFSETTO:-0400
TZNAME:EDT
DTSTART:20260308T070000
END:DAYLIGHT
BEGIN:STANDARD
TZOFFSETFROM:-0400
TZOFFSETTO:-0500
TZNAME:EST
DTSTART:20261101T060000
END:STANDARD
END:VTIMEZONE
BEGIN:VEVENT
DTSTART;TZID=America/New_York:20250308T113000
DTEND;TZID=America/New_York:20250308T150000
DTSTAMP:20260421T055001
CREATED:20250212T032434Z
LAST-MODIFIED:20250212T032434Z
UID:10003798-1741433400-1741446000@mygreenmontgomery.org
SUMMARY:Ward 7 Environmental Justice Town Hall
DESCRIPTION:Join us on Saturday\, March 8th\, at Dorothy Heights Library from 11 am to 3 pm for an important community event focused on key environmental issues in Ward 7. This town hall will bring together local residents\, experts\, and officials to discuss important topics\, including: \nLead in Water: Replace lead service lines in DC so that everyone has safe drinking water. \nAir Pollution: Sign up for an air monitor in your community so we can clean up the air to protect our health. \nFood Deserts: Bring more healthy and affordable foods to our neighborhoods. \nPoor Housing Conditions: Make sure your landlord takes care of mold\, and pests so your housing will be safer. \nWhat to Expect: Food\, Giveaways\, Exhibits\, Panel Discussions \nInformative Talks: Experts and governmental agencies are invited to explain the most important environmental issues facing our community and their approaches in addressing them.
URL:https://mygreenmontgomery.org/event/ward-7-environmental-justice-town-hall/
LOCATION:Dorothy Height /Benning Road Library\, 3935 Benning Road NE\, Washington\, DC
ORGANIZER;CN="Tene Lewis":MAILTO:leadasthmacampaign@gmail.com
END:VEVENT
END:VCALENDAR