BEGIN:VCALENDAR
VERSION:2.0
PRODID:-//My Green Montgomery - ECPv6.15.20//NONSGML v1.0//EN
CALSCALE:GREGORIAN
METHOD:PUBLISH
X-WR-CALNAME:My Green Montgomery
X-ORIGINAL-URL:https://mygreenmontgomery.org
X-WR-CALDESC:Events for My Green Montgomery
REFRESH-INTERVAL;VALUE=DURATION:PT1H
X-Robots-Tag:noindex
X-PUBLISHED-TTL:PT1H
BEGIN:VTIMEZONE
TZID:America/New_York
BEGIN:DAYLIGHT
TZOFFSETFROM:-0500
TZOFFSETTO:-0400
TZNAME:EDT
DTSTART:20210314T070000
END:DAYLIGHT
BEGIN:STANDARD
TZOFFSETFROM:-0400
TZOFFSETTO:-0500
TZNAME:EST
DTSTART:20211107T060000
END:STANDARD
BEGIN:DAYLIGHT
TZOFFSETFROM:-0500
TZOFFSETTO:-0400
TZNAME:EDT
DTSTART:20220313T070000
END:DAYLIGHT
BEGIN:STANDARD
TZOFFSETFROM:-0400
TZOFFSETTO:-0500
TZNAME:EST
DTSTART:20221106T060000
END:STANDARD
BEGIN:DAYLIGHT
TZOFFSETFROM:-0500
TZOFFSETTO:-0400
TZNAME:EDT
DTSTART:20230312T070000
END:DAYLIGHT
BEGIN:STANDARD
TZOFFSETFROM:-0400
TZOFFSETTO:-0500
TZNAME:EST
DTSTART:20231105T060000
END:STANDARD
BEGIN:DAYLIGHT
TZOFFSETFROM:-0500
TZOFFSETTO:-0400
TZNAME:EDT
DTSTART:20240310T070000
END:DAYLIGHT
BEGIN:STANDARD
TZOFFSETFROM:-0400
TZOFFSETTO:-0500
TZNAME:EST
DTSTART:20241103T060000
END:STANDARD
END:VTIMEZONE
BEGIN:VEVENT
DTSTART;TZID=America/New_York:20231128T160000
DTEND;TZID=America/New_York:20231128T190000
DTSTAMP:20260422T042733
CREATED:20231116T152517Z
LAST-MODIFIED:20231116T152517Z
UID:10002996-1701187200-1701198000@mygreenmontgomery.org
SUMMARY:Gift Outside the Box Fair
DESCRIPTION:Discover ways to Gift Greener\, Gift Experiences\, Give Back and Buy Local. Raffles\, giveaways\, and activities for all including demonstrations on how to use recycled items for gift wrapping. Bring gift wrap you may not want to use any more for a gift wrap swap!\nEvent will be in the Multi-Purpose Rm\, #132 of the Wheaton library. \nThe amount of household waste in the U.S. increases an average of 25% between Thanksgiving and New Year’s Day (EPA).\nWrapping paper\, decorations\, packaging\, and leftover food (and sometimes even the gifts we buy)\, often don’t last long and end up in the waste stream. Help us kick off an eco-friendly holiday season! \nMore info: Gift Outside the Box or call Ana Arriaza at 240-506-4419. \nDescubra como regalar de forma más ecológica\, regalar experiencias\, retribuir y comprar productos locales. Rifas\, obsequios y actividades para todos\, incluyendo demostraciones sobre cómo usar artículos reciclados para envolver regalos. ¡Traiga papel de regalo que tal vez ya no desee usar para un intercambio de papel de regalo! \nEl evento será en el Multi-Purpose Rm\, #132 en la biblioteca de Wheaton. \nLa cantidad de desechos domésticos en los EE. UU. aumenta un promedio del 25% entre el Día de Acción de Gracias y el Día de Año Nuevo (EPA).\nEl papel de regalo\, las decoraciones\, los envases y los restos de comida (y a veces incluso los regalos que compramos)\, a menudo no duran mucho y terminan en el flujo de desechos. ¡Ayúdanos a iniciar una temporada navideña ecológica! \nMás información: Gift Outside the Box o llame a Ana Arriaza al 240-506-4419.
URL:https://mygreenmontgomery.org/event/gift-outside-the-box-fair/
LOCATION:Wheaton Library\, 11701 Georgia Ave\, Silver Spring\, MD\, 20902\, United States
CATEGORIES:Community Calendar
ATTACH;FMTTYPE=image/png:https://mygreenmontgomery.org/wp-content/uploads/2023/11/Gift-Outside-the-Box-Kickoff-event-November-28-2023-English-Twitter-Post.png
END:VEVENT
BEGIN:VEVENT
DTSTART;TZID=America/New_York:20231031T110000
DTEND;TZID=America/New_York:20231031T150000
DTSTAMP:20260422T042733
CREATED:20231003T105226Z
LAST-MODIFIED:20231003T105226Z
UID:10002979-1698750000-1698764400@mygreenmontgomery.org
SUMMARY:⚡Tabling\, Energy Assistance Programs and Energy Saving Resources
DESCRIPTION:Don’t miss out on our Tabling\, Energy Assistance Programs\, and Energy Saving Resources Event on October 31\, from 11:00AM to 3:00PM at the Wheaton Library. Come by and learn about energy assistance programs & energy-saving resources. \nMontgomery Energy Connection will be there to provide information on how to lower utility bills and keep money in your pockets!
URL:https://mygreenmontgomery.org/event/%e2%9a%a1tabling-energy-assistance-programs-and-energy-saving-resources-2/
LOCATION:Wheaton Library\, 11701 Georgia Ave\, Silver Spring\, MD\, 20902\, United States
CATEGORIES:Community Calendar
ATTACH;FMTTYPE=image/png:https://mygreenmontgomery.org/wp-content/uploads/2023/10/EnergyConnection_LOGO-tag-8.png
ORGANIZER;CN="Montgomery Energy Connection":MAILTO:Larissa.Johnson@montgomerycountymd.gov
END:VEVENT
BEGIN:VEVENT
DTSTART;TZID=America/New_York:20231021T133000
DTEND;TZID=America/New_York:20231021T143000
DTSTAMP:20260422T042733
CREATED:20231011T163201Z
LAST-MODIFIED:20231011T163201Z
UID:10002983-1697895000-1697898600@mygreenmontgomery.org
SUMMARY:Electric Vehicle Information Session and EV Charging Demonstration
DESCRIPTION:Thinking about purchasing an electric vehicle? Learn more about the latest programs and incentives available to residents in Montgomery County related to buying and owning an electric vehicle. DEP will discuss County programs such as the EV Purchasing Co-op and then we’ll visit the parking garage underneath the Library to see an Electric vehicle and charging station in action. There will be an opportunity for Q&A. Program starts in the Wheaton Library Multi-Purpose Room\, #132.
URL:https://mygreenmontgomery.org/event/electric-vehicle-information-session-and-ev-charging-demonstration/
LOCATION:Wheaton Library\, 11701 Georgia Ave\, Silver Spring\, MD\, 20902\, United States
END:VEVENT
BEGIN:VEVENT
DTSTART;TZID=America/New_York:20230614T080000
DTEND;TZID=America/New_York:20230614T170000
DTSTAMP:20260422T042733
CREATED:20230614T154430Z
LAST-MODIFIED:20230614T154430Z
UID:10002846-1686729600-1686762000@mygreenmontgomery.org
SUMMARY:Summer Reading: Energy Express 2023
DESCRIPTION:Mischief is afoot at your local library! The library’s electricity is missing\, and we need your help to find out what happened. It’s time to gather our magnifying glasses and brush off our searching skills as we set off on an adventure to solve the case of the missing electricity! \nWith the summer reading theme “All Together Now”\, detectives from ages 5-12 can work together to help discover the fate of the library’s electricity all while learning about different energy sources\, environmental justice\, and how to conserve energy at home. Participants can expect to solve puzzles\, play games\, and make crafts as they overcome harrowing plot twists and red herrings to figure out this classic who dunnit.
URL:https://mygreenmontgomery.org/event/summer-reading-energy-express-2023-9/
LOCATION:Wheaton Library\, 11701 Georgia Ave\, Silver Spring\, MD\, 20902\, United States
CATEGORIES:Community Calendar,Events
ATTACH;FMTTYPE=image/png:https://mygreenmontgomery.org/wp-content/uploads/2023/06/Wheaton_Insta.png
END:VEVENT
BEGIN:VEVENT
DTSTART;TZID=America/New_York:20230506T140000
DTEND;TZID=America/New_York:20230506T153000
DTSTAMP:20260422T042733
CREATED:20230424T160455Z
LAST-MODIFIED:20230424T161050Z
UID:10002815-1683381600-1683387000@mygreenmontgomery.org
SUMMARY:Why Bees Matter!
DESCRIPTION:Join science journalist/ ‘Hive Tour’ author Phil Frank for this intensely visual tour of the extraordinary lives of honey bees & why they are irreplaceable. They’re unlike any other insect/pollinator. \nThe presenter is the Webmaster & ListServ & Swarm Alert Monitor for the Montgomery County Beekeepers Association. Here’s a video of his kitchen hive: https://vimeo.com/176760818 \nA colony of tens of thousands bees behaves as a single animal. Learn how they make honey (very labor intensive)\, what’s killing them (not what you think) and how we can help them. Also\, learn about the sex life of bees\, and lots of fascinating bee facts.
URL:https://mygreenmontgomery.org/event/why-bees-matter/
LOCATION:Wheaton Library\, 11701 Georgia Ave\, Silver Spring\, MD\, 20902\, United States
CATEGORIES:Community Calendar
ATTACH;FMTTYPE=image/jpeg:https://mygreenmontgomery.org/wp-content/uploads/2023/04/HIVETOURCOVER.jpg
END:VEVENT
BEGIN:VEVENT
DTSTART;TZID=America/New_York:20221006T150000
DTEND;TZID=America/New_York:20221006T180000
DTSTAMP:20260422T042733
CREATED:20221004T182304Z
LAST-MODIFIED:20221004T182304Z
UID:10002763-1665068400-1665079200@mygreenmontgomery.org
SUMMARY:💡Light Bulb Exchange 💡
DESCRIPTION:(Active Aging Week) Pop Up Event with Lightbulb Exchange and EV Charging Station. Active Aging Week encourages adults over the age of 50 to take advantage of all that life has to offer. The goal of this week is to promote wellness initiatives and to get bodies up and moving! Come by the Wheaton Library on October 6th from 3:00 – 6:00pm to help celebrate this burst of energy and exchange up to 3 of your old high energy light bulbs for efficient LED bulbs!
URL:https://mygreenmontgomery.org/event/%f0%9f%92%a1light-bulb-exchange-%f0%9f%92%a1/
LOCATION:Wheaton Library\, 11701 Georgia Ave\, Silver Spring\, MD\, 20902\, United States
CATEGORIES:Community Calendar
ATTACH;FMTTYPE=image/png:https://mygreenmontgomery.org/wp-content/uploads/2022/10/EnergyConnection_LOGO-tag.png
END:VEVENT
BEGIN:VEVENT
DTSTART;TZID=America/New_York:20220804T140000
DTEND;TZID=America/New_York:20220804T150000
DTSTAMP:20260422T042733
CREATED:20220518T182436Z
LAST-MODIFIED:20220518T182436Z
UID:10002504-1659621600-1659625200@mygreenmontgomery.org
SUMMARY:Energy Express at Wheaton Library
DESCRIPTION:Energy Express is a summer event for kids and families to learn about energy usage. As a partnership between the Department of Environmental Protection and Montgomery County Public Libraries\, these presentations will take place across the County’s libraries as part of the Summer Reading Program. And for the first time since 2019\, Energy Express presentations are happening IN PERSON! Set sail on a treasure hunt towards energy savings with this year’s Summer Reading theme\, “Oceans of Possibilities.” On board\, our young crewmates will explore different energy sources and make smart decisions to power our ship (and our homes). Our adventure will be led by high school students from the P.O.W.E.R (Peer Outreach With Energy Resources) program who have worked all year to prepare this interactive energy story.
URL:https://mygreenmontgomery.org/event/energy-express-at-wheaton-library/
LOCATION:Wheaton Library\, 11701 Georgia Ave\, Silver Spring\, MD\, 20902\, United States
ATTACH;FMTTYPE=image/png:https://mygreenmontgomery.org/wp-content/uploads/2022/05/Wheaton-.png
END:VEVENT
END:VCALENDAR